BEGIN:VCALENDAR
VERSION:2.0
PRODID:spatie/icalendar-generator
DESCRIPTION:Events from Knypersley First School | Biddulph | Staffordshire
X-WR-CALDESC:Events from Knypersley First School | Biddulph | Staffordshire
REFRESH-INTERVAL;VALUE=DURATION:PT1440M
X-PUBLISHED-TTL:PT1440M
BEGIN:VTIMEZONE
TZID:Europe/London
BEGIN:STANDARD
DTSTART:20191027T020000Z
TZOFFSETFROM:+0100
TZOFFSETTO:+0000
END:STANDARD
BEGIN:DAYLIGHT
DTSTART:20200329T010000Z
TZOFFSETFROM:+0000
TZOFFSETTO:+0100
END:DAYLIGHT
END:VTIMEZONE
BEGIN:VTIMEZONE
TZID:UTC
BEGIN:STANDARD
DTSTART:20250726T164726Z
TZOFFSETFROM:+0000
TZOFFSETTO:+0000
END:STANDARD
END:VTIMEZONE
BEGIN:VEVENT
UID:500-269
DTSTAMP:20260422T164726Z
SUMMARY:Half term
LOCATION:
ORGANIZER;CN=Liz Goodyear:MAILTO:associate@knypersley.staffs.sch.uk
DTSTART;TZID=Europe/London;VALUE=DATE:20200217
DTEND;TZID=Europe/London;VALUE=DATE:20200222
X-ALT-DESC;FMTTYPE=TEXT/HTML:
CATEGORIES:General
URL;VALUE=URI:https://knypersley.staffs.sch.uk/calendar/?mc_id=500&#038;vca
 l=500
METHOD:PUBLISH
END:VEVENT
END:VCALENDAR